BEGIN:VCALENDAR
VERSION:2.0
PRODID:-//Premis Zoom - ECPv5.14.1//NONSGML v1.0//EN
CALSCALE:GREGORIAN
METHOD:PUBLISH
X-WR-CALNAME:Premis Zoom
X-ORIGINAL-URL:https://www.zoomfestival.org/en
X-WR-CALDESC:Events for Premis Zoom
REFRESH-INTERVAL;VALUE=DURATION:PT1H
X-Robots-Tag:noindex
X-PUBLISHED-TTL:PT1H
BEGIN:VTIMEZONE
TZID:Europe/Madrid
BEGIN:DAYLIGHT
TZOFFSETFROM:+0100
TZOFFSETTO:+0200
TZNAME:CEST
DTSTART:20210328T010000
END:DAYLIGHT
BEGIN:STANDARD
TZOFFSETFROM:+0200
TZOFFSETTO:+0100
TZNAME:CET
DTSTART:20211031T010000
END:STANDARD
BEGIN:DAYLIGHT
TZOFFSETFROM:+0100
TZOFFSETTO:+0200
TZNAME:CEST
DTSTART:20220327T010000
END:DAYLIGHT
BEGIN:STANDARD
TZOFFSETFROM:+0200
TZOFFSETTO:+0100
TZNAME:CET
DTSTART:20221030T010000
END:STANDARD
END:VTIMEZONE
BEGIN:VEVENT
DTSTART;TZID=Europe/Madrid:20221125T120000
DTEND;TZID=Europe/Madrid:20221125T140000
DTSTAMP:20260425T130943
CREATED:20221108T083015Z
LAST-MODIFIED:20221111T100731Z
UID:21517-1669377600-1669384800@www.zoomfestival.org
SUMMARY:ZOOM CLASS: "Opera Prima TV3"
DESCRIPTION:ZOOM CLASS: “Opera Prima TV3”\nDivendres 25 de novembre. 12:00h. TecnoCampus Mataró \nLa sèrie\, de 4 capítols\, segueix els moments clau de la construcció de “La gata perduda”\, la primera òpera que fa el Liceu sobre el Raval\, amb la gent del Raval.    \nPonent:\n Sergi Giménez \, realitzador. \n*Zoom Class exclusiva pels alumnes del Tecnocampus Mataró
URL:https://www.zoomfestival.org/en/esdeveniment/zoom-class-opera-prima-tv3
LOCATION:TecnoCampus Mataró\, Parc TecnoCampus Mataró-Maresme\, Carrer d'Ernest Lluch\, 32\, Mataró\, Barcelona\, 08302
CATEGORIES:Zoom Class
ATTACH;FMTTYPE=image/jpeg:https://www.zoomfestival.org/wp-content/uploads/2022/11/op.jpg
ORGANIZER;CN="Premis%20Zoom":MAILTO:zoom@zoomigualada.org
END:VEVENT
BEGIN:VEVENT
DTSTART;TZID=Europe/Madrid:20221125T113000
DTEND;TZID=Europe/Madrid:20221125T130000
DTSTAMP:20260425T130943
CREATED:20221026T065927Z
LAST-MODIFIED:20221111T100714Z
UID:21065-1669375800-1669381200@www.zoomfestival.org
SUMMARY:ZOOM CLASS: "Khuylo. Guerra en Ucrania". La producció audiovisual en zones de conflicte
DESCRIPTION:ZOOM CLASS: “Khuylo. Guerra en Ucrania”. La producció audiovisual en zones de conflicte\nDivendres 25 de novembre. 11:30h. Teatre Municipal Ateneu \nEn Joakim M. Vila és un realitzador audiovisual que va agafar la seva càmera i va anar fins Ucraïna en plena guerra. Càmera en mà\, va parlar amb molts testimonis de persones desplaçades i refugiades\, amb civils que viuen enmig de llocs bombardejats i també amb militars. \nLa improvisació\, els canvis constants de la realitat i els riscos que ha d’assumir el fotoperiodista\, i als quals s’ha d’emmotllar constantment per seguir el fil de la proposta documental que pretén aconseguir\, són alguns dels aspectes que Joakim M. Vila explicarà als presents. Un document audiovisual inèdit i valent\, que posa en evidència els efectes d’una guerra.  \nPonent:\n Joakim M. Vila\, director \nInscriu-te
URL:https://www.zoomfestival.org/en/esdeveniment/zoom-class-khuylo-guerra-en-ucrania-la-produccio-audiovisual-en-zones-de-conflicte
LOCATION:Ateneu’s Municipal Theatre\, C/ Sant Pau nº 9\, Igualada\, Barcelona\, Catalunya\, 08700\, Espanya
CATEGORIES:Zoom Class
ATTACH;FMTTYPE=image/jpeg:https://www.zoomfestival.org/wp-content/uploads/2022/10/Foto_Dombas1.jpg
ORGANIZER;CN="Premis%20Zoom":MAILTO:zoom@zoomigualada.org
END:VEVENT
BEGIN:VEVENT
DTSTART;TZID=Europe/Madrid:20221125T093000
DTEND;TZID=Europe/Madrid:20221125T110000
DTSTAMP:20260425T130943
CREATED:20221026T065429Z
LAST-MODIFIED:20221111T100626Z
UID:21067-1669368600-1669374000@www.zoomfestival.org
SUMMARY:ZOOM CLASS: "El món dels gameSports"
DESCRIPTION:ZOOM CLASS: “El món dels gameSports”\nDivendres 25 de novembre. 9:30h. Teatre Municipal Ateneu \nCatalunya és un referent en el sector del videojoc per la formació i empreses indies desenvolupadores de videojocs. Arrel d’això\, s’organitzen diferents esdeveniments i trobades de competició molt exitoses. El Col·lectiu GamesSports de Lleida presenten aquest ecosistema del esports electrònics en català. Què es un E-game? Com s’organitzen? Quins videojocs són els més exitosos?  \nPonent:\n Noé Bosch \nInscriu-te
URL:https://www.zoomfestival.org/en/esdeveniment/zoom-class-el-mon-dels-gamesports
LOCATION:Ateneu’s Municipal Theatre\, C/ Sant Pau nº 9\, Igualada\, Barcelona\, Catalunya\, 08700\, Espanya
CATEGORIES:Zoom Class
ATTACH;FMTTYPE=image/jpeg:https://www.zoomfestival.org/wp-content/uploads/2022/10/Gamers2.jpg
ORGANIZER;CN="Premis%20Zoom":MAILTO:zoom@zoomigualada.org
END:VEVENT
BEGIN:VEVENT
DTSTART;TZID=Europe/Madrid:20221124T103000
DTEND;TZID=Europe/Madrid:20221124T103000
DTSTAMP:20260425T130943
CREATED:20221026T065027Z
LAST-MODIFIED:20221114T130420Z
UID:21069-1669285800-1669285800@www.zoomfestival.org
SUMMARY:ZOOM CLASS: "Lara i Kali"
DESCRIPTION:ZOOM CLASS: Lara i Kali”\nDijous 24 de novembre. 10:30h. Teatre Municipal Ateneu \nEl nou programa del SX3 – Antic Club Super 3- arriba al Festival Zoom amb la presència de la seva protagonista\, la Lara. La Lara va néixer a un refugi d’alta muntanya (Colomers) a la Vall d’Aran i té una relació molt especial amb la seva gossa amb qui fa qualsevol activitat\, des d’escalar i esquiar a menjar croquetes. \n*Projecció per a les escoles de primària \nPonents:\n amb la presencia de la Lara i dos membres de l’equip del programa.
URL:https://www.zoomfestival.org/en/esdeveniment/zoom-class-lara-i-kali
LOCATION:Ateneu’s Municipal Theatre\, C/ Sant Pau nº 9\, Igualada\, Barcelona\, Catalunya\, 08700\, Espanya
CATEGORIES:Zoom Class
ATTACH;FMTTYPE=image/jpeg:https://www.zoomfestival.org/wp-content/uploads/2022/10/thumbnail_Lara-i-Kali_2.jpg
ORGANIZER;CN="Premis%20Zoom":MAILTO:zoom@zoomigualada.org
END:VEVENT
BEGIN:VEVENT
DTSTART;TZID=Europe/Madrid:20221123T113000
DTEND;TZID=Europe/Madrid:20221123T130000
DTSTAMP:20260425T130943
CREATED:20221026T064036Z
LAST-MODIFIED:20221111T100122Z
UID:21063-1669203000-1669208400@www.zoomfestival.org
SUMMARY:ZOOM CLASS: "Ser o no ser"
DESCRIPTION:ZOOM CLASS: “Ser o no ser”\nDimecres 23 de novembre. 11:30h. Teatre Municipal Ateneu \nÉs una sèrie de la plataforma PlayZ\, produïda per RTVE en col·laboració amb Big Bang Media (THE MEDIAPRO STUDIO)\, sobre un adolescent trans de 16 anys que somia en convertir-se en un gran actor al mateix temps que s’enfronta a reptes emocionals de la seva recent iniciada transició.  \nL’equip del programa explicarà el secret de l’èxit d’aquesta sèrie tan necessària. \nPonents:\n Coral Cruz\, creadora\, i Júlia Gibert i Eduard Torres\, membres de l’equip artístic. \nInscriu-te
URL:https://www.zoomfestival.org/en/esdeveniment/zoom-class-ser-o-no-ser
LOCATION:Ateneu’s Municipal Theatre\, C/ Sant Pau nº 9\, Igualada\, Barcelona\, Catalunya\, 08700\, Espanya
CATEGORIES:Zoom Class
ATTACH;FMTTYPE=image/jpeg:https://www.zoomfestival.org/wp-content/uploads/2022/10/Ser-o-no-ser.jpg
ORGANIZER;CN="Premis%20Zoom":MAILTO:zoom@zoomigualada.org
END:VEVENT
BEGIN:VEVENT
DTSTART;TZID=Europe/Madrid:20221123T093000
DTEND;TZID=Europe/Madrid:20221123T110000
DTSTAMP:20260425T130943
CREATED:20221102T094059Z
LAST-MODIFIED:20221117T123147Z
UID:21247-1669195800-1669201200@www.zoomfestival.org
SUMMARY:ZOOM CLASS: "Una de les nostres"
DESCRIPTION:ZOOM CLASS: “Una de les nostres”\,  docu-serie d’esport femení\nDimecres 23 de novembre. 9:30h. Teatre Municipal Ateneu \nÉs un programa que explora l’auge i efervescència de l’esport femení a Catalunya i mostra una cara inèdita de les seves principals estrelles.  \nA cada episodi\, acompanyem una esportista catalana de primer nivell a visitar un club esportiu amb especial significància i de la seva mateixa disciplina esportiva. \nConviurà i entrenarà amb nenes i nens durant un dia a les seves instal·lacions i després s’emportarà uns pocs privilegiats de visita al seu propi equip professional\, on nenes i nens veuran de primera mà el dia a dia d’aquelles esportistes que aspiren a ser. \nPonents:\n Víctor Rins Sanz\, director del programa\, i Laia Creus Badia\, cap de redacció. \nInscriu-te
URL:https://www.zoomfestival.org/en/esdeveniment/zoom-class-una-de-les-nostres
LOCATION:Ateneu’s Municipal Theatre\, C/ Sant Pau nº 9\, Igualada\, Barcelona\, Catalunya\, 08700\, Espanya
CATEGORIES:Zoom Class
ATTACH;FMTTYPE=image/jpeg:https://www.zoomfestival.org/wp-content/uploads/2022/11/dones-esport-especial-veuanoia.jpg
ORGANIZER;CN="Premis%20Zoom":MAILTO:zoom@zoomigualada.org
END:VEVENT
BEGIN:VEVENT
DTSTART;TZID=Europe/Madrid:20211126T120000
DTEND;TZID=Europe/Madrid:20211126T133000
DTSTAMP:20260425T130943
CREATED:20211103T115904Z
LAST-MODIFIED:20211103T115904Z
UID:19530-1637928000-1637933400@www.zoomfestival.org
SUMMARY:ZOOM CLASS: Ficció sonora
DESCRIPTION:ZOOM CLASS: Ficció sonora\nDivendres 26 de novembre. 12:00h. Teatre Municipal Ateneu \nCatalunya Ràdio està explorant noves formes de comunicar\, una d’elles és amb el podcast ‘La torre de vidre’ una sèrie de ficció creada per escriptor Albert Sánchez Piñol\, i l’exitosa “Crims”. \nPonents:\n Santi Faro\, director de continguts de Catalunya Ràdio i Enric Álvarez\, guionista de “Crims”\nModera el periodista David Àvila \nInscriu-te
URL:https://www.zoomfestival.org/en/esdeveniment/zoom-class-ficcio-sonora
LOCATION:Ateneu Igualadí\, C/ Sant Pau\, 9\, Igualada\, Barcelona\, 08700\, Espanya
CATEGORIES:Zoom Class
ATTACH;FMTTYPE=image/jpeg:https://www.zoomfestival.org/wp-content/uploads/2021/11/torredevidre.jpg
END:VEVENT
BEGIN:VEVENT
DTSTART;TZID=Europe/Madrid:20211126T110000
DTEND;TZID=Europe/Madrid:20211126T120000
DTSTAMP:20260425T130943
CREATED:20211103T113400Z
LAST-MODIFIED:20211103T113400Z
UID:19531-1637924400-1637928000@www.zoomfestival.org
SUMMARY:ZOOM CLASS: "Trueno"\, documental d'estrena
DESCRIPTION:ZOOM CLASS: “Trueno”\nDivendres 26 de novembre. 11:00h. Teatre Municipal Ateneu \nProjecció d’estrena d’un episodi de la sèrie ‘Trueno’ basada en la història del raper Mateo Palacios Corazzini\, més conegut com a ‘Trueno’\, tot un fenòmen de masses. Una gran estrena en exclusiva al Teatre Ateneu. \nDurada: 25 minuts \nInscriu-te
URL:https://www.zoomfestival.org/en/esdeveniment/zoom-class-trueno
LOCATION:Ateneu Igualadí\, C/ Sant Pau\, 9\, Igualada\, Barcelona\, 08700\, Espanya
CATEGORIES:Zoom Class
ATTACH;FMTTYPE=image/jpeg:https://www.zoomfestival.org/wp-content/uploads/2021/11/trueno.jpg
END:VEVENT
BEGIN:VEVENT
DTSTART;TZID=Europe/Madrid:20211126T093000
DTEND;TZID=Europe/Madrid:20211126T110000
DTSTAMP:20260425T130943
CREATED:20211103T112407Z
LAST-MODIFIED:20211103T112407Z
UID:19532-1637919000-1637924400@www.zoomfestival.org
SUMMARY:ZOOM CLASS: Parlem de sexe. "El Punt D"
DESCRIPTION:ZOOM CLASS: Parlem de sexe. “El Punt D”\nDivendres 26 de novembre. 9:30h. Teatre Municipal Ateneu \nUn programa que parla dels mites\, estereotips i tabús que hi ha la voltant de la sexualitat amb l’objectiu de divulgar i entretenir amb sensibilitat feminista i LGTBIQ+. Un format on el disseny gràfic juga un paper important a l’hora de comunicar de manera amena\, àgil i amb bon ritme. \nPonents:\n Núria Vila\, productora executiva i Roger Reig Solé\, realitzador i productor Uniunfandos\nModerat pel periodista David Àvila. \nInscriu-te
URL:https://www.zoomfestival.org/en/esdeveniment/zoom-class-parlem-de-sexe-el-punt-d
LOCATION:Ateneu Igualadí\, C/ Sant Pau\, 9\, Igualada\, Barcelona\, 08700\, Espanya
CATEGORIES:Zoom Class
ATTACH;FMTTYPE=image/jpeg:https://www.zoomfestival.org/wp-content/uploads/2021/11/puntd.jpg
END:VEVENT
BEGIN:VEVENT
DTSTART;TZID=Europe/Madrid:20211125T170000
DTEND;TZID=Europe/Madrid:20211125T170000
DTSTAMP:20260425T130943
CREATED:20211103T111739Z
LAST-MODIFIED:20211124T173737Z
UID:19541-1637859600-1637859600@www.zoomfestival.org
SUMMARY:ZOOM CLASS: "La vuelta de Eva"\, documental
DESCRIPTION:ZOOM CLASS: “La vuelta de Eva”\, documental\nDijous 25 de novembre. 17:00h. Online: Canal ZoomLive \nL’audiovisual és una eina perfecta per explicar històries de caràcter social i apropar-les al gran públic. Aquest és el cas d’Eva Giménez que amb la seva fundació ASDENT dona a conèixer la malaltia del seu fill\, Nacho\, que pateix la malaltia de Dent. Aquesta activitat forma part del programa Acció Cinema. \n \nPonents:\n Eloi Tomàs\, director i Eva Giménez\, presidenta de l’associació Asdent\nModerat pel periodista David Àvila. \nInscriu-te
URL:https://www.zoomfestival.org/en/esdeveniment/zoom-class-la-vuelta-de-eva-documental
LOCATION:ONLINE: ZoomLive
CATEGORIES:Zoom Class,ZoomLive
ATTACH;FMTTYPE=image/jpeg:https://www.zoomfestival.org/wp-content/uploads/2021/11/lavuelta2.jpg
END:VEVENT
BEGIN:VEVENT
DTSTART;TZID=Europe/Madrid:20211125T110000
DTEND;TZID=Europe/Madrid:20211125T123000
DTSTAMP:20260425T130943
CREATED:20211103T111248Z
LAST-MODIFIED:20211119T075621Z
UID:19544-1637838000-1637843400@www.zoomfestival.org
SUMMARY:ZOOM CLASS: "Radio Gaga"\, la ràdio de les causes socials
DESCRIPTION:ZOOM CLASS: “Radio Gaga”\, la ràdio de les causes socials\nDijous 25 de novembre. 11:00h. Online: Canal ZoomLive \nRadio Gaga es un dels programes d’èxit de Movistar+. La radio mòbil viatja per la península donant veu a històries de persones humanes que no ho han tingut fàcil. Un altaveu imprescindible per conèixer altres realitat socials. Aquesta activitat forma part del programa Acció Cinema. \n \nPonents:\n Amparo Castellano\, Directora General de Zeppelin\, i Rebeca González Soto\, Delegada de Continguts de Movistar+ i Charo Sillero\, Responsable del CRI La Llavor de Sant Joan de Déu Serveis Socials\nModerat pel periodista David Àvila. \nInscriu-te
URL:https://www.zoomfestival.org/en/esdeveniment/zoom-class-radio-gaga-la-radio-de-les-causes-socials
LOCATION:ONLINE: ZoomLive
CATEGORIES:Zoom Class,ZoomLive
ATTACH;FMTTYPE=image/jpeg:https://www.zoomfestival.org/wp-content/uploads/2021/11/RADIO-GAGA-2-1.jpg
END:VEVENT
BEGIN:VEVENT
DTSTART;TZID=Europe/Madrid:20211125T093000
DTEND;TZID=Europe/Madrid:20211125T110000
DTSTAMP:20260425T130943
CREATED:20211103T110834Z
LAST-MODIFIED:20211119T075534Z
UID:19545-1637832600-1637838000@www.zoomfestival.org
SUMMARY:ZOOM CLASS: La música a través de tres programes d'èxit. Cover\, A2Veus i Operació Paki
DESCRIPTION:ZOOM CLASS: La música a través de tres programes d’èxit. Cover\, A2Veus i Operació Paki\nDijous 25 de novembre. 9:30h. Online: Canal ZoomLive \nLa música i la televisió han creat una fórmula per atrapar a l’audiència. Però quina és la clau d’aquest èxit? Ho descobrim a través de Cover i A 2 veus de TV3 i Operación Paki\, de Cardedeu Televisió\, tres formats on la música i el talent son els protagonistes.  \nPonents:\n Eugènia Giné\, Productora Executiva de Cover\, Eric Dexeus\, Productor Executiu A2Veus\, Maria López Rovira\, Directora RTVC i directora Operació Paki\, Núria Lázaro\, Periodista RTVC i presentadora Operació Paki i Lluís Benzal Presentador Operació Paki.\nModerat pel periodista David Àvila. \nInscriu-te
URL:https://www.zoomfestival.org/en/esdeveniment/zoom-class-la-musica-a-traves-de-tres-programes-dexit
LOCATION:ONLINE: ZoomLive
CATEGORIES:Zoom Class,ZoomLive
ATTACH;FMTTYPE=image/jpeg:https://www.zoomfestival.org/wp-content/uploads/2021/11/Cover-1.jpg
END:VEVENT
BEGIN:VEVENT
DTSTART;TZID=Europe/Madrid:20211124T110000
DTEND;TZID=Europe/Madrid:20211124T123000
DTSTAMP:20260425T130943
CREATED:20211103T110231Z
LAST-MODIFIED:20211119T075741Z
UID:19556-1637751600-1637757000@www.zoomfestival.org
SUMMARY:ZOOM CLASS: "Gen Playz". Un programa de debat per a la Generació Z
DESCRIPTION:ZOOM CLASS: “Gen Playz”. Un programa de debat per a la Generació Z\nDimecres 24 de novembre. 11:00h. Online: Canal ZoomLive \n‘Gen Playz’\, un programa de debat per a la Generació Z que aborda els assumptes que interessen a joves i adolescents. Un espai de llibertat on conflueixen perfils dispars amb opinions contraposades. Amb un estil directe\, GenPlayz s’ha convertit en una referència a l’hora de tractar tot tipus de temes socials que preocupen els joves. En parlem amb l’equip del programa\, de com es va crear i de quina ha estat l’acollida. Aquesta activitat forma part del programa Acció Cinema. \n \nPonents:\n Celia Montalbán Directora de Gen Playz i Irene Mahía\, Coordinadora de Contenidos de Actualidad de Playz.\nModerat pel periodista  David Àvila. \nInscriu-te
URL:https://www.zoomfestival.org/en/esdeveniment/zoom-class-gen-playz-un-programa-de-debat-per-a-la-generacio-z
LOCATION:ONLINE: ZoomLive
CATEGORIES:Zoom Class,ZoomLive
ATTACH;FMTTYPE=image/jpeg:https://www.zoomfestival.org/wp-content/uploads/2021/11/gen1.jpg
END:VEVENT
BEGIN:VEVENT
DTSTART;TZID=Europe/Madrid:20211124T093000
DTEND;TZID=Europe/Madrid:20211124T110000
DTSTAMP:20260425T130943
CREATED:20211103T105541Z
LAST-MODIFIED:20211119T075832Z
UID:19557-1637746200-1637751600@www.zoomfestival.org
SUMMARY:ZOOM CLASS: "Danz". La dansa a vista d'audiovisual
DESCRIPTION:ZOOM CLASS: “Danz”. La dansa a vista d’audiovisual\nDimecres 24 de novembre. 9:30h. Online: Canal ZoomLive \nDANZ és una sèrie de microdocumentals de Playz de RTVE que retrata el fenomen dels balls més urbans. A través dels ballarins descobrim diferents disciplines i realitats del hip-hop\, el trueking o el popping. Emissió d’un micro-documental amb la participació de membres de l’equip. \nPonents:\n Rebeca Hortigüela\, Directora de Danz i Nahuel Rebollar\, muntador de Danz.  \nModerat pel periodista David Àvila. \nInscriu-te
URL:https://www.zoomfestival.org/en/esdeveniment/zoom-class-danz-la-dansa-a-vista-daudiovisual
LOCATION:ONLINE: ZoomLive
CATEGORIES:Zoom Class,ZoomLive
ATTACH;FMTTYPE=image/jpeg:https://www.zoomfestival.org/wp-content/uploads/2021/11/danz1.jpg
END:VEVENT
END:VCALENDAR